BEGIN:VCALENDAR
VERSION:2.0
PRODID:-//JA Malta Foundation - ECPv6.15.20//NONSGML v1.0//EN
CALSCALE:GREGORIAN
METHOD:PUBLISH
X-WR-CALNAME:JA Malta Foundation
X-ORIGINAL-URL:https://jamalta.org
X-WR-CALDESC:Events for JA Malta Foundation
REFRESH-INTERVAL;VALUE=DURATION:PT1H
X-Robots-Tag:noindex
X-PUBLISHED-TTL:PT1H
BEGIN:VTIMEZONE
TZID:Europe/Berlin
BEGIN:DAYLIGHT
TZOFFSETFROM:+0100
TZOFFSETTO:+0200
TZNAME:CEST
DTSTART:20210328T010000
END:DAYLIGHT
BEGIN:STANDARD
TZOFFSETFROM:+0200
TZOFFSETTO:+0100
TZNAME:CET
DTSTART:20211031T010000
END:STANDARD
BEGIN:DAYLIGHT
TZOFFSETFROM:+0100
TZOFFSETTO:+0200
TZNAME:CEST
DTSTART:20220327T010000
END:DAYLIGHT
BEGIN:STANDARD
TZOFFSETFROM:+0200
TZOFFSETTO:+0100
TZNAME:CET
DTSTART:20221030T010000
END:STANDARD
BEGIN:DAYLIGHT
TZOFFSETFROM:+0100
TZOFFSETTO:+0200
TZNAME:CEST
DTSTART:20230326T010000
END:DAYLIGHT
BEGIN:STANDARD
TZOFFSETFROM:+0200
TZOFFSETTO:+0100
TZNAME:CET
DTSTART:20231029T010000
END:STANDARD
END:VTIMEZONE
BEGIN:VEVENT
DTSTART;VALUE=DATE:20220903
DTEND;VALUE=DATE:20220904
DTSTAMP:20260420T035604
CREATED:20220818T131149Z
LAST-MODIFIED:20220903T230533Z
UID:4800-1662163200-1662249599@jamalta.org
SUMMARY:Financial Planning Session
DESCRIPTION:JA Malta is partnering up with the Gozo Business Chamber to deliver a session on Financial Planning to the participants of the Youth 4 Entrepreneurship programme
URL:https://jamalta.org/event/financial-planning-session/
LOCATION:Invite Only
END:VEVENT
BEGIN:VEVENT
DTSTART;TZID=Europe/Berlin:20220826T170000
DTEND;TZID=Europe/Berlin:20220826T190000
DTSTAMP:20260420T035604
CREATED:20220818T082738Z
LAST-MODIFIED:20220826T162933Z
UID:4654-1661533200-1661540400@jamalta.org
SUMMARY:Skola Sajf Finals
DESCRIPTION:JA has once again partnered with SkolaSajf in order to deliver the 4th edition of our entrepreneurial programme Our Community and the 1st edition of our entrepreneurial programme Economics for Success.\nTouring centres across Malta and Gozo\, JA facilitators together with HSBC volunteers engaged students in a number of fun\, innovative activities\, discussions and creative spaces. Students participating in these activities have learnt the basic concepts of idea formation\, entrepreneurship\, the community\, confidence and presentation skills whilst working in teams to obtain an understanding of the programme objective.\nDuring the Junior Entrepreneurs Final presentation there will be two rounds of presentations with a total of 16 teams presenting their outputs and ideas. Eleven teams who have participated in the Our Community Programme\, and five teams who have participated in the Economics for success programme.  The teams have been selected from across Malta and Gozo\, to present their idea in a presentation event which will be held in person at the Malta Chamber of Commerce and livestreamed directly to the JA Malta Foundation Facebook page. Each team will be asked to carry out a 2-minute-long presentation\, which they will be prepared for the by JA team.
URL:https://jamalta.org/event/skola-sajf-finals/
LOCATION:Invite Only
CATEGORIES:JA Events
END:VEVENT
BEGIN:VEVENT
DTSTART;TZID=Europe/Berlin:20220825T080000
DTEND;TZID=Europe/Berlin:20220825T083000
DTSTAMP:20260420T035604
CREATED:20220818T131149Z
LAST-MODIFIED:20220818T131149Z
UID:4799-1661414400-1661416200@jamalta.org
SUMMARY:JA Financial Literacy session
DESCRIPTION:JA Malta is working with JCI Malta in its SeedGreen programme by delivering a training session on Financial Literacy
URL:https://jamalta.org/event/ja-financial-literacy-session-2/
LOCATION:Invite Only
END:VEVENT
BEGIN:VEVENT
DTSTART;TZID=Europe/Berlin:20220825T080000
DTEND;TZID=Europe/Berlin:20220825T083000
DTSTAMP:20260420T035604
CREATED:20220818T131149Z
LAST-MODIFIED:20220825T043827Z
UID:4798-1661414400-1661416200@jamalta.org
SUMMARY:JA Financial Literacy session
DESCRIPTION:JA Malta is working with JCI Malta in its SeedGreen programme by delivering a training session on Financial Literacy
URL:https://jamalta.org/event/ja-financial-literacy-session/
LOCATION:Invite Only
END:VEVENT
BEGIN:VEVENT
DTSTART;VALUE=DATE:20220822
DTEND;VALUE=DATE:20220824
DTSTAMP:20260420T035604
CREATED:20220818T125348Z
LAST-MODIFIED:20220823T211442Z
UID:4793-1661126400-1661299199@jamalta.org
SUMMARY:JA Skolasajf goes to Gozo
DESCRIPTION:
URL:https://jamalta.org/event/ja-skolasajf-goes-to-gozo/
LOCATION:Gozo
END:VEVENT
BEGIN:VEVENT
DTSTART;VALUE=DATE:20220822
DTEND;VALUE=DATE:20220823
DTSTAMP:20260420T035604
CREATED:20220818T071901Z
LAST-MODIFIED:20220822T201402Z
UID:4650-1661126400-1661212799@jamalta.org
SUMMARY:New Brand Launch
DESCRIPTION:
URL:https://jamalta.org/event/new-brand-launch/
CATEGORIES:JA Events
END:VEVENT
END:VCALENDAR