BEGIN:VCALENDAR
VERSION:2.0
PRODID:-//JA Malta Foundation - ECPv6.15.20//NONSGML v1.0//EN
CALSCALE:GREGORIAN
METHOD:PUBLISH
X-ORIGINAL-URL:https://jamalta.org
X-WR-CALDESC:Events for JA Malta Foundation
REFRESH-INTERVAL;VALUE=DURATION:PT1H
X-Robots-Tag:noindex
X-PUBLISHED-TTL:PT1H
BEGIN:VTIMEZONE
TZID:Europe/Malta
BEGIN:DAYLIGHT
TZOFFSETFROM:+0100
TZOFFSETTO:+0200
TZNAME:CEST
DTSTART:20230326T010000
END:DAYLIGHT
BEGIN:STANDARD
TZOFFSETFROM:+0200
TZOFFSETTO:+0100
TZNAME:CET
DTSTART:20231029T010000
END:STANDARD
BEGIN:DAYLIGHT
TZOFFSETFROM:+0100
TZOFFSETTO:+0200
TZNAME:CEST
DTSTART:20240331T010000
END:DAYLIGHT
BEGIN:STANDARD
TZOFFSETFROM:+0200
TZOFFSETTO:+0100
TZNAME:CET
DTSTART:20241027T010000
END:STANDARD
BEGIN:DAYLIGHT
TZOFFSETFROM:+0100
TZOFFSETTO:+0200
TZNAME:CEST
DTSTART:20250330T010000
END:DAYLIGHT
BEGIN:STANDARD
TZOFFSETFROM:+0200
TZOFFSETTO:+0100
TZNAME:CET
DTSTART:20251026T010000
END:STANDARD
END:VTIMEZONE
BEGIN:VEVENT
DTSTART;TZID=Europe/Malta:20240911T170000
DTEND;TZID=Europe/Malta:20240911T183000
DTSTAMP:20260422T073019
CREATED:20240910T095427Z
LAST-MODIFIED:20240910T100058Z
UID:12239-1726074000-1726079400@jamalta.org
SUMMARY:JA Malta Alumni Workshop: Registering and Growing Your Business
DESCRIPTION:Do you want to take your business to the next level? ….\n\n JA Malta Alumni is collaborating with the Malta Business Registry to bring to you an informative workshop on how you can register your business\, the effective ways on how to make your business successful and much more.\n\n\n\nSo join us on the 11th September at the JA Malta Offices to discover all of this!\n\n\n\n—> Apply now : https://forms.gle/fLhoNeUNMiZCVobe9\n\n\n\nSpecial thanks to Agenzija Zghazagh for their support.\n\n\n\n“Funded by the European Union. Views and opinions expressed are however those of the author(s) only and do not necessarily reflect those of the European Union or European Union programmes. Neither the European Union nor the granting authority can be held responsible for them.”
URL:https://jamalta.org/event/12239/
LOCATION:The Leadership Hub\, Tigne Point\, 3\, Clock Tower\, Sliema\, TP01\, Malta
CATEGORIES:JA Events
END:VEVENT
END:VCALENDAR