BEGIN:VCALENDAR
VERSION:2.0
PRODID:-//JA Malta Foundation - ECPv6.15.20//NONSGML v1.0//EN
CALSCALE:GREGORIAN
METHOD:PUBLISH
X-WR-CALNAME:JA Malta Foundation
X-ORIGINAL-URL:https://jamalta.org
X-WR-CALDESC:Events for JA Malta Foundation
REFRESH-INTERVAL;VALUE=DURATION:PT1H
X-Robots-Tag:noindex
X-PUBLISHED-TTL:PT1H
BEGIN:VTIMEZONE
TZID:Europe/Helsinki
BEGIN:DAYLIGHT
TZOFFSETFROM:+0200
TZOFFSETTO:+0300
TZNAME:EEST
DTSTART:20210328T010000
END:DAYLIGHT
BEGIN:STANDARD
TZOFFSETFROM:+0300
TZOFFSETTO:+0200
TZNAME:EET
DTSTART:20211031T010000
END:STANDARD
BEGIN:DAYLIGHT
TZOFFSETFROM:+0200
TZOFFSETTO:+0300
TZNAME:EEST
DTSTART:20220327T010000
END:DAYLIGHT
BEGIN:STANDARD
TZOFFSETFROM:+0300
TZOFFSETTO:+0200
TZNAME:EET
DTSTART:20221030T010000
END:STANDARD
BEGIN:DAYLIGHT
TZOFFSETFROM:+0200
TZOFFSETTO:+0300
TZNAME:EEST
DTSTART:20230326T010000
END:DAYLIGHT
BEGIN:STANDARD
TZOFFSETFROM:+0300
TZOFFSETTO:+0200
TZNAME:EET
DTSTART:20231029T010000
END:STANDARD
END:VTIMEZONE
BEGIN:VEVENT
DTSTART;TZID=Europe/Helsinki:20221116T090000
DTEND;TZID=Europe/Helsinki:20221116T130000
DTSTAMP:20260423T123343
CREATED:20221017T115154Z
LAST-MODIFIED:20221017T115551Z
UID:6744-1668589200-1668603600@jamalta.org
SUMMARY:Financial Literacy Workshop for VOs
DESCRIPTION:Register here: https://jamalta.org/r/3000FinCap \nA workshop on financial literacy for Voluntary Organisations. Organised by JA Malta\, HSBC Malta Foundation and Academy of Givers for all registered Voluntary Organisations. \n\n\nHSBC Malta Foundation\, JA Malta and Academy of Givers have come together to provide Voluntary Organisations with capacity building to improve financial literacy. Join this workshop focusing on Financial Literacy. HSBC will also share information about the HSBC Malta Foundation and we will discuss the Academy of Givers and how we can support your organisation. \n‍\nThe positive impact of financial literacy on NGOs within the current financial landscape \n\nUnderstanding money management\nMeasuring value Vs priority\nOur financial landscape\n\n\nThe role of NGOs in financial literacy\n\n\nFinancial literacy awareness for the benefits of savings\nHabits and behaviours towards money\n\nRegister here: https://jamalta.org/r/3000FinCap \n 
URL:https://jamalta.org/event/financial-literacy-workshop-for-vos/
LOCATION:Iniala Bureau\, 37\, Old treasury street\,\, Valletta\, VLT 1410\, Malta
CATEGORIES:Fincap,JA Events
END:VEVENT
END:VCALENDAR