BEGIN:VCALENDAR
VERSION:2.0
PRODID:-//JA Malta Foundation - ECPv6.15.20//NONSGML v1.0//EN
CALSCALE:GREGORIAN
METHOD:PUBLISH
X-ORIGINAL-URL:https://jamalta.org
X-WR-CALDESC:Events for JA Malta Foundation
REFRESH-INTERVAL;VALUE=DURATION:PT1H
X-Robots-Tag:noindex
X-PUBLISHED-TTL:PT1H
BEGIN:VTIMEZONE
TZID:Europe/Helsinki
BEGIN:DAYLIGHT
TZOFFSETFROM:+0200
TZOFFSETTO:+0300
TZNAME:EEST
DTSTART:20210328T010000
END:DAYLIGHT
BEGIN:STANDARD
TZOFFSETFROM:+0300
TZOFFSETTO:+0200
TZNAME:EET
DTSTART:20211031T010000
END:STANDARD
BEGIN:DAYLIGHT
TZOFFSETFROM:+0200
TZOFFSETTO:+0300
TZNAME:EEST
DTSTART:20220327T010000
END:DAYLIGHT
BEGIN:STANDARD
TZOFFSETFROM:+0300
TZOFFSETTO:+0200
TZNAME:EET
DTSTART:20221030T010000
END:STANDARD
BEGIN:DAYLIGHT
TZOFFSETFROM:+0200
TZOFFSETTO:+0300
TZNAME:EEST
DTSTART:20230326T010000
END:DAYLIGHT
BEGIN:STANDARD
TZOFFSETFROM:+0300
TZOFFSETTO:+0200
TZNAME:EET
DTSTART:20231029T010000
END:STANDARD
END:VTIMEZONE
BEGIN:VEVENT
DTSTART;TZID=Europe/Helsinki:20220912T160000
DTEND;TZID=Europe/Helsinki:20220912T170000
DTSTAMP:20260423T152103
CREATED:20220831T120451Z
LAST-MODIFIED:20220831T120920Z
UID:5437-1662998400-1663002000@jamalta.org
SUMMARY:Teachers Training - Introductory Online Information Session
DESCRIPTION:At JA Malta we value our teachers as you are a key stakeholder\, to achieve our impact. We also want to ensure that our teachers are well equipped and continue their upskilling journey\, beyond the JA programmes.  \nWe would like to invite you to a new initiative Climate-KIC where you will have the opportunity to network\, receive training on new system thinking tools and more! We would like to also take this opportunity to provide you with key information for the upcoming year for the Company Programme. \nMCAST in collaboration with JA Malta Foundation and Transport Malta is thrilled to be running the Young Innovators (YI) Programme for the second consecutive year. It aims to train teachers in strengthening the skills of their students\, aged 12-18\, in climate innovation through systems thinking. \nThe YI programme is open to all educators in secondary schools and colleges across all of Malta and Gozo who are keen to gain new skills and knowledge and empower students to become leaders in living carbon-neutral lives and developing innovative solutions to tackle climate change. \nTo participate in the programme: \nIntroductory Online Information Session \nDate: 12th of September\nTime: 16.00-17.00\nZOOM Registration Link :to receive call details/link: https://jayemalta.org/r/Climate-Kic-InfoSession2022 \n\nSystems Thinking Teacher/Educator/Mentor Training opening with a networking lunch\n\nDate: 19th September\nTime: 12:00 – 16:00\nVenue: at MCAST where you will be trained by our local coaches on how to use visual tools to develop innovative solutions to local environmental issues. (Underground parking available at MCAST). This is open for all educators (not just limited for link teachers) so please share this with your network! \nRegistration Link: https://tinyurl.com/murayf99 \nClick here to register for the online info session\nClick here to register for the free networking lunch + teacher training \nAre you ready to be challenged\, learn new skills and gain access to an array of materials and resources around innovation\, creative pedagogy and systems thinking? We invite you to join our Young Innovators Programme! \nKindly contact Ms Gonca Kara at Gonca.kara@mcast.edu.mt if you have any questions about the Climate-Kic Project and training and Elizabeth Pulo at elizabeth@jayemalta.org if you have any questions about the Company Programme Information Session. \nThanks and best regards\, \n  \n 
URL:https://jamalta.org/event/teachers-training-introductory-online-information-session/
LOCATION:Registration Required
CATEGORIES:JA Events
END:VEVENT
BEGIN:VEVENT
DTSTART;TZID=Europe/Helsinki:20220919T120000
DTEND;TZID=Europe/Helsinki:20220919T160000
DTSTAMP:20260423T152103
CREATED:20220831T120702Z
LAST-MODIFIED:20220831T121618Z
UID:5440-1663588800-1663603200@jamalta.org
SUMMARY:Teachers/Mentors Training - Systems Thinking
DESCRIPTION:At JA Malta we value our teachers as you are a key stakeholder\, to achieve our impact. We also want to ensure that our teachers are well equipped and continue their upskilling journey\, beyond the JA programmes.  \nWe would like to invite you to a new initiative Climate-KIC where you will have the opportunity to network\, receive training on new system thinking tools and more! We would like to also take this opportunity to provide you with key information for the upcoming year for the Company Programme. \nMCAST in collaboration with JA Malta Foundation and Transport Malta is thrilled to be running the Young Innovators (YI) Programme for the second consecutive year. It aims to train teachers in strengthening the skills of their students\, aged 12-18\, in climate innovation through systems thinking. \nThe YI programme is open to all educators in secondary schools and colleges across all of Malta and Gozo who are keen to gain new skills and knowledge and empower students to become leaders in living carbon-neutral lives and developing innovative solutions to tackle climate change. \n\nSystems Thinking Teacher/Educator/Mentor Training opening with a networking lunch\n\nDate: 19th September\nTime: 12:00 – 16:00\nVenue: at MCAST where you will be trained by our local coaches on how to use visual tools to develop innovative solutions to local environmental issues. (Underground parking available at MCAST). This is open for all educators (not just limited for link teachers) so please share this with your network! \nRegistration Link: https://tinyurl.com/murayf99 \nClick here to register for the free networking lunch + teacher training \nAre you ready to be challenged\, learn new skills and gain access to an array of materials and resources around innovation\, creative pedagogy and systems thinking? We invite you to join our Young Innovators Programme! \nKindly contact Ms Gonca Kara at Gonca.kara@mcast.edu.mt if you have any questions about the Climate-Kic Project and training and Elizabeth Pulo at elizabeth@jayemalta.org if you have any questions about the Company Programme Information Session. \nThanks and best regards\, \n  \n 
URL:https://jamalta.org/event/teachers-training-introductory-online-information-session-2/
LOCATION:Registration Required
CATEGORIES:JA Events
END:VEVENT
END:VCALENDAR